BEGIN:VCALENDAR
VERSION:2.0
PRODID:-//Ainm | Associazione Imprenditori Nord Milano - ECPv6.15.20//NONSGML v1.0//EN
CALSCALE:GREGORIAN
METHOD:PUBLISH
X-ORIGINAL-URL:https://www.ainm.it
X-WR-CALDESC:Eventi per Ainm | Associazione Imprenditori Nord Milano
REFRESH-INTERVAL;VALUE=DURATION:PT1H
X-Robots-Tag:noindex
X-PUBLISHED-TTL:PT1H
BEGIN:VTIMEZONE
TZID:Europe/Rome
BEGIN:DAYLIGHT
TZOFFSETFROM:+0100
TZOFFSETTO:+0200
TZNAME:CEST
DTSTART:20230326T010000
END:DAYLIGHT
BEGIN:STANDARD
TZOFFSETFROM:+0200
TZOFFSETTO:+0100
TZNAME:CET
DTSTART:20231029T010000
END:STANDARD
BEGIN:DAYLIGHT
TZOFFSETFROM:+0100
TZOFFSETTO:+0200
TZNAME:CEST
DTSTART:20240331T010000
END:DAYLIGHT
BEGIN:STANDARD
TZOFFSETFROM:+0200
TZOFFSETTO:+0100
TZNAME:CET
DTSTART:20241027T010000
END:STANDARD
BEGIN:DAYLIGHT
TZOFFSETFROM:+0100
TZOFFSETTO:+0200
TZNAME:CEST
DTSTART:20250330T010000
END:DAYLIGHT
BEGIN:STANDARD
TZOFFSETFROM:+0200
TZOFFSETTO:+0100
TZNAME:CET
DTSTART:20251026T010000
END:STANDARD
BEGIN:DAYLIGHT
TZOFFSETFROM:+0100
TZOFFSETTO:+0200
TZNAME:CEST
DTSTART:20260329T010000
END:DAYLIGHT
BEGIN:STANDARD
TZOFFSETFROM:+0200
TZOFFSETTO:+0100
TZNAME:CET
DTSTART:20261025T010000
END:STANDARD
END:VTIMEZONE
BEGIN:VEVENT
DTSTART;TZID=Europe/Rome:20250124T123000
DTEND;TZID=Europe/Rome:20250124T143000
DTSTAMP:20260422T181654
CREATED:20250107T225546Z
LAST-MODIFIED:20250107T231035Z
UID:30030-1737721800-1737729000@www.ainm.it
SUMMARY:Il Business è servito! 24 gennaio 2025
DESCRIPTION:Riprendono i pranzi di lavoro di AINM\, un momento di incontro ricorrente e sempre stimolante\, il modo migliore di fare networking! \n\n  \n\nVenerdì 24 gennaio 2025 \nalle ore 12:30 \nc/o \nRistorante Villa Magnolie \nViale Giuseppe Garibaldi\, 42\, Garbagnate Milanese 20024 \n\n  \nIn questa occasione potremo condividere opportunità\, necessità\, idee e fare business. \n  \nI posti disponibili sono solo 40 e saranno assegnati in ordine di iscrizione. \n  \nVuoi partecipare al pranzo? \nISCRIVITI ORA\n  \n\n  \nPrezzo del pranzo è di € 30\,00 \n  \n \n  \n  \n\n\n  \n \n  \nPosti disponibili: /40 \n  \nSiamo spiacenti\, non è più possibile registrarsi. \nL'evento è SOLD OUT  \n 
URL:https://www.ainm.it/evento/il-business-e-servito-24-gennaio-2025/
LOCATION:Villa Magnolie\, Via Giuseppe Garibaldi\, 42\, Garbagnate Milanese\, MI\, 20024\, Italia
CATEGORIES:Pranzi
ATTACH;FMTTYPE=image/jpeg:https://www.ainm.it/wp-content/uploads/2025/01/copertina-eventi-ainm-24.01.2025.jpg
ORGANIZER;CN="AINM - Associazione Imprenditori Nord Milano":MAILTO:assistenza@ainm.it
END:VEVENT
BEGIN:VEVENT
DTSTART;TZID=Europe/Rome:20241205T193000
DTEND;TZID=Europe/Rome:20241205T233000
DTSTAMP:20260422T181654
CREATED:20241107T101807Z
LAST-MODIFIED:20241107T145111Z
UID:29999-1733427000-1733441400@www.ainm.it
SUMMARY:CENA DI NATALE 2024
DESCRIPTION:Vuoi partecipare alla cena? ISCRIVITI ORA\n  \nAINM ha il piacere di invitarvi alla CENA DI NATALE. \nLa consueta cena prima delle vacanze natalizie sarà un’occasione per incontrarci e festeggiare. \n  \n\n  \nIl costo della cena è di € 70\,00 \nIl costo della cena per i SOCI è di € 60\,00.\nUtilizza il codice sconto a te riservato che hai ricevuto tramite mail (Non hai ancora ricevuto il tuo codice? Richiedilo qui) \n  \n \n  \n  \n\nVI ASPETTIAMO GIOVEDÌ  5 Dicembre 2024 ORE 19:30 PRESSO: \nRistorante “Il Cavaliere”\nVia Giuseppe Mazzini\, 144\n20037 Paderno Dugnano (MI) \n  \n  \n \n  \nPosti disponibili: /120 \n \n 
URL:https://www.ainm.it/evento/cena-di-natale-2024/
LOCATION:Ristorante Il Cavaliere\, Via Giuseppe Mazzini\, 144\, Paderno Dugnano\, MI\, 20037\, Italia
CATEGORIES:Cene
ATTACH;FMTTYPE=image/jpeg:https://www.ainm.it/wp-content/uploads/2023/11/cenanatale23.jpg
ORGANIZER;CN="AINM - Associazione Imprenditori Nord Milano":MAILTO:assistenza@ainm.it
END:VEVENT
BEGIN:VEVENT
DTSTART;TZID=Europe/Rome:20241108T123000
DTEND;TZID=Europe/Rome:20241108T143000
DTSTAMP:20260422T181654
CREATED:20241028T134636Z
LAST-MODIFIED:20241105T104117Z
UID:29986-1731069000-1731076200@www.ainm.it
SUMMARY:Il Business è servito! 8 novembre 2024
DESCRIPTION:Riprendono i pranzi di lavoro di AINM\, un momento di incontro ricorrente e sempre stimolante\, il modo migliore di fare networking! \n\n  \n\nVenerdì 8 novembre 2024 \nalle ore 12:30 \nc/o \nRistorante Da Agata \nViale Giacomo Matteotti 31/a\, Cusano Milanino 20095 \n\n  \nIn questa occasione potremo condividere opportunità\, necessità\, idee e fare business. \n  \nI posti disponibili sono solo 40 e saranno assegnati in ordine di iscrizione. \n  \nVuoi partecipare al pranzo? \nISCRIVITI ORA\n  \n\n  \nPrezzo del pranzo è di € 30\,00 \n  \n \n  \n  \n\n\n  \n \n  \nPosti disponibili: /40 \n  \n \n 
URL:https://www.ainm.it/evento/il-business-e-servito-8-novembre-2024/
LOCATION:Ristorante Da Agata\, Viale Giacomo Matteotti 31/a\, Cusano Milanino\, MI\, 20095\, Italia
CATEGORIES:Pranzi
ATTACH;FMTTYPE=image/jpeg:https://www.ainm.it/wp-content/uploads/2024/10/a-tavola-con-gli-imprenditori-1-scaled.jpg
ORGANIZER;CN="AINM - Associazione Imprenditori Nord Milano":MAILTO:assistenza@ainm.it
END:VEVENT
BEGIN:VEVENT
DTSTART;TZID=Europe/Rome:20241011T123000
DTEND;TZID=Europe/Rome:20241011T143000
DTSTAMP:20260422T181654
CREATED:20240927T143130Z
LAST-MODIFIED:20240927T143130Z
UID:29976-1728649800-1728657000@www.ainm.it
SUMMARY:Il Business è servito! 11 ottobre 2024
DESCRIPTION:Riprendono i pranzi di lavoro di AINM\, un momento di incontro ricorrente e sempre stimolante\, il modo migliore di fare networking! \n\n  \n\nVenerdì 11 ottobre 2024 \nalle ore 12:30 \nc/o \nOsteria del Borgo \nVia Alessandro Volta\, 14 20824 Lazzate MB \n\n  \nIn questa occasione potremo condividere opportunità\, necessità\, idee e fare business. \n  \nI posti disponibili sono solo 40 e saranno assegnati in ordine di iscrizione. \n  \nVuoi partecipare al pranzo? \nISCRIVITI ORA\n  \n\n  \nPrezzo del pranzo è di € 30\,00 \n  \n \n  \n  \n\n\n  \n \n  \nPosti disponibili: /40 \n  \n \n 
URL:https://www.ainm.it/evento/il-business-e-servito-11-ottobre-2024/
LOCATION:Osteria del Borgo\, Via Alessandro Volta\, 14\, Lazzate\, 20824\, Italia
CATEGORIES:Pranzi
ATTACH;FMTTYPE=image/jpeg:https://www.ainm.it/wp-content/uploads/2024/09/a-tavola-con-gli-imprenditori-11-ottobre-scaled.jpg
ORGANIZER;CN="AINM - Associazione Imprenditori Nord Milano":MAILTO:assistenza@ainm.it
END:VEVENT
BEGIN:VEVENT
DTSTART;TZID=Europe/Rome:20240926T123000
DTEND;TZID=Europe/Rome:20240926T143000
DTSTAMP:20260422T181654
CREATED:20240916T154115Z
LAST-MODIFIED:20240916T154325Z
UID:29970-1727353800-1727361000@www.ainm.it
SUMMARY:Il Business è servito! 26 settembre 2024
DESCRIPTION:Riprendono i pranzi di lavoro di AINM\, un momento di incontro ricorrente e sempre stimolante\, il modo migliore di fare networking! \n\n  \n\nIl nuovo incontro sarà  \nGiovedì 26 settembre alle ore 12:30  \nc/o \nAero Club Milano Lounge Coffee e Restaurant \nViale Antonio Gramsci\, 1 \nBresso (MI) \n\n  \nIn questa occasione potremo condividere opportunità\, necessità\, idee e fare business. \n  \nI posti disponibili sono solo 40 e saranno assegnati in ordine di iscrizione. \n  \nVuoi partecipare al pranzo? \nISCRIVITI ORA\n  \n\n  \nPrezzo del pranzo è di € 30\,00 \n  \n \n  \n  \n\n\n  \n \n  \nPosti disponibili: /40 \n  \n \n 
URL:https://www.ainm.it/evento/il-business-e-servito-26-settembre-2024/
LOCATION:Aero Club Milano Lounge Coffee e Restaurant\, Viale Antonio Gramsci\, 1\, Bresso (MI)\, MI\, 20091\, Italia
CATEGORIES:Pranzi
ATTACH;FMTTYPE=image/png:https://www.ainm.it/wp-content/uploads/2024/09/a-tavola-con-gli-imprenditori-1.png
ORGANIZER;CN="AINM - Associazione Imprenditori Nord Milano":MAILTO:assistenza@ainm.it
END:VEVENT
BEGIN:VEVENT
DTSTART;TZID=Europe/Rome:20240704T190000
DTEND;TZID=Europe/Rome:20240704T233000
DTSTAMP:20260422T181654
CREATED:20240617T195554Z
LAST-MODIFIED:20240618T190450Z
UID:29953-1720119600-1720135800@www.ainm.it
SUMMARY:CENA D'ESTATE 2024
DESCRIPTION:Vuoi partecipare alla cena? ISCRIVITI ORA\n  \nAINM ha il piacere di invitarvi alla CENA D’ESTATE. \n\nLa consueta cena prima delle vacanze\, un’occasione per riabbracciarci e tornare a fare rete! \n\n  \n\n  \nIl costo della cena è di € 60\,00 \nIl costo della cena riservato ai SOCI è di € 50\,00.\nUtilizza il codice sconto ricevuto tramite mail (Sei socio e non hai ancora ricevuto il tuo codice? Richiedilo qui) \nVi ricordiamo che l’iscrizione all’associazione è nominale\, di conseguenza\, il codice sconto è valido per il solo associato. \n  \n \n  \n  \n\n  \nVI ASPETTIAMO GIOVEDÌ 4 LUGLIO 2024 ORE 19:00 PRESSO: \nRistorante “Il Cavaliere”\nVia Giuseppe Mazzini\, 144\n20037 Paderno Dugnano (MI) \n  \n  \n \n  \nPosti disponibili: /120 \n \n 
URL:https://www.ainm.it/evento/cena-destate-2024/
LOCATION:Ristorante Il Cavaliere\, Via Giuseppe Mazzini\, 144\, Paderno Dugnano\, MI\, 20037\, Italia
CATEGORIES:Cene
ATTACH;FMTTYPE=image/png:https://www.ainm.it/wp-content/uploads/2023/06/A.I.N.M.-LOCANDINE-head.png
ORGANIZER;CN="AINM - Associazione Imprenditori Nord Milano":MAILTO:assistenza@ainm.it
END:VEVENT
BEGIN:VEVENT
DTSTART;TZID=Europe/Rome:20240620T123000
DTEND;TZID=Europe/Rome:20240620T150000
DTSTAMP:20260422T181654
CREATED:20240609T220052Z
LAST-MODIFIED:20240609T220752Z
UID:29946-1718886600-1718895600@www.ainm.it
SUMMARY:Il Business è servito! 20 Giugno 2024
DESCRIPTION:Riprendono i pranzi di lavoro di AINM\, un momento di incontro ricorrente e sempre stimolante\, il modo migliore di fare networking! \n\n  \n\nIl nuovo incontro sarà  \nGiovedì 20 Giugno alle ore 12:30  \nc/o \nFarinami Garden \nVia Nino Bixio\, 1 a Sesto San Giovanni (MI). \n\n  \nIn questa occasione potremo condividere opportunità\, necessità\, idee e fare business. \n  \nI posti disponibili sono solo 40 e saranno assegnati in ordine di iscrizione. \n  \nVuoi partecipare al pranzo? \nISCRIVITI ORA\n  \n\n  \nPrezzo del pranzo è di € 30\,00 \n  \n \n  \n  \n\n\n  \n \n  \nPosti disponibili: /40 \n  \n \n 
URL:https://www.ainm.it/evento/il-business-e-servito-20-giugno-2024/
LOCATION:Farinami Garden\, Via Nino Bixio\, 1\, Sesto San Giovanni\, Italia
CATEGORIES:Pranzi
ATTACH;FMTTYPE=image/jpeg:https://www.ainm.it/wp-content/uploads/2024/06/copertina-eventi-ainm-1.jpg
ORGANIZER;CN="AINM - Associazione Imprenditori Nord Milano":MAILTO:assistenza@ainm.it
END:VEVENT
BEGIN:VEVENT
DTSTART;TZID=Europe/Rome:20240603T173000
DTEND;TZID=Europe/Rome:20240603T220000
DTSTAMP:20260422T181654
CREATED:20240521T105748Z
LAST-MODIFIED:20240528T084028Z
UID:29932-1717435800-1717452000@www.ainm.it
SUMMARY:Gare d’appalto\, istruzioni per l’uso
DESCRIPTION:Un’opportunità di confronto con i diversi attori che indicono e partecipano alle gare pubbliche e private con l’obiettivo di approfondire un tema che tocca tutte le aziende in modo diretto o indiretto. \n\n  \nL’evento sarà moderato da:\nAvvocato SIMONE FACCHINETTI \nSaluti del Vicepresidente di ANCI e Sindaco di Cinisello Balsamo GIACOMO GHILARDI \nInterventi: \n\nLORENZO GUBIAN Direttore Generale di ARIA SPA\nMARCO PANTERA Direttore Centrale Acquisti di ARIA SPA\nALESSANDRO PREZIOSA Direttore Commerciale Nord Italia ESAOTE SPA e Presidente Elettromedicali e servizi integrati di CONFINDUSTRIA DISPOSITIVI MEDICI.\nGIANLUCA ZENOBI Partner ed Amministratore delegato di TENDER REPLY\nALESSANDRO FILIPPIS Senior manager/dirigente di TENDER REPLY\nADRIANO MARROCCO in rappresentanza di AUSED\, Direttore Tecnologie\, Sicurezza e Customer Service di SOGEMI SPA\n\n\n\n\n\nCi vediamo Lunedì 3 Giugno 2024 \nEntrata alle ore 17:30 – inizio alle ore 18:00 \nc/o \nVilla Casati Stampa \nPiazza Soncino\, 6 \n20092 Cinisello Balsamo (MI) \n\nAlla fine dell’evento sarà offerto un aperitivo\n  \n  \nPer info:  segreteria@ainm.it
URL:https://www.ainm.it/evento/gare-dappalto-istruzioni-per-luso/
LOCATION:Villa Casati Stampa\, Piazza Soncino 6\, Cinisello Balsamo\, Italia
CATEGORIES:Eventi
ATTACH;FMTTYPE=image/jpeg:https://www.ainm.it/wp-content/uploads/2024/05/copertina-eventi-ainm_.jpg
END:VEVENT
BEGIN:VEVENT
DTSTART;TZID=Europe/Rome:20240509T123000
DTEND;TZID=Europe/Rome:20240509T150000
DTSTAMP:20260422T181654
CREATED:20240429T224152Z
LAST-MODIFIED:20240430T080517Z
UID:29925-1715257800-1715266800@www.ainm.it
SUMMARY:Il Business è servito! 9 Maggio 2024
DESCRIPTION:Riprendono i pranzi di lavoro di AINM\, un momento di incontro ricorrente e sempre stimolante\, il modo migliore di fare networking! \n\n  \n\nIl nuovo incontro sarà  \nGiovedì 9 Maggio alle ore 12:30  \nc/o \nOsteria Montescudaio \nVia Alessandro Volta 32/A\n20030\, Paderno Dugnano\, Milano \n\n  \nIn questa occasione potremo condividere opportunità\, necessità\, idee e fare business. \n  \nI posti disponibili sono solo 40 e saranno assegnati in ordine di iscrizione. \n  \nVuoi partecipare al pranzo? \nISCRIVITI ORA\n  \n\n  \nPrezzo del pranzo è di € 30\,00 \n  \n \n  \n  \n\n\n  \n \n  \nPosti disponibili: /40 \n  \n \n 
URL:https://www.ainm.it/evento/il-business-e-servito-9-maggio-2024/
LOCATION:Osteria Montescudaio\, Via Alessandro Volta 32/A\, Paderno Dugnano\, MI\, 20030\, Italia
CATEGORIES:Pranzi
ATTACH;FMTTYPE=image/jpeg:https://www.ainm.it/wp-content/uploads/2024/04/copertina-eventi-ainm.jpg
ORGANIZER;CN="AINM - Associazione Imprenditori Nord Milano":MAILTO:assistenza@ainm.it
END:VEVENT
END:VCALENDAR